BEGIN:VCALENDAR
VERSION:2.0
PRODID:-//wp-events-plugin.com//7.2.3.1//EN
TZID:Europe/Copenhagen
X-WR-TIMEZONE:Europe/Copenhagen
BEGIN:VEVENT
UID:1274@xn--vanlb-yua.dk
DTSTART;TZID=Europe/Copenhagen:20180215T171500
DTEND;TZID=Europe/Copenhagen:20180215T181500
DTSTAMP:20240613T211901Z
URL:https://xn--vanlb-yua.dk/events/lobetraening-torsdag-2018-02-15/
SUMMARY:Løbetræning torsdag for alle :-)
DESCRIPTION:Niveau: alle\n\nDistance: 4-8 km med intervaltræning
CATEGORIES:Løbetræning alle,Løbetræning øvet
LOCATION:V. Krogebjerg/ Slotsherrensvej\, Slotsherrensvej 201\, Vanløse\, 
 2720\, Denmark
GEO:55.700919;12.463758
X-APPLE-STRUCTURED-LOCATION;VALUE=URI;X-ADDRESS=Slotsherrensvej 201\, Vanl
 øse\, 2720\, Denmark;X-APPLE-RADIUS=100;X-TITLE=V. Krogebjerg/ Slotsherre
 nsvej:geo:55.700919,12.463758
END:VEVENT
BEGIN:VTIMEZONE
TZID:Europe/Copenhagen
X-LIC-LOCATION:Europe/Copenhagen
BEGIN:STANDARD
DTSTART:20171029T020000
TZOFFSETFROM:+0200
TZOFFSETTO:+0100
TZNAME:CET
END:STANDARD
END:VTIMEZONE
END:VCALENDAR