BEGIN:VCALENDAR
VERSION:2.0
PRODID:-//wp-events-plugin.com//7.2.3.1//EN
TZID:Europe/Copenhagen
X-WR-TIMEZONE:Europe/Copenhagen
BEGIN:VEVENT
UID:986@xn--vanlb-yua.dk
DTSTART;TZID=Europe/Copenhagen:20221015T090000
DTEND;TZID=Europe/Copenhagen:20221015T104500
DTSTAMP:20240613T211718Z
URL:https://xn--vanlb-yua.dk/events/loerdagsloeb-for-alle-4-14-km-frit-val
 g-mod-frb-have-og-soendermarken-2/
SUMMARY:lørdagsløb for alle: 4 -14 km. Frit valg \;-) mod Frb.have og Sø
 ndermarken
DESCRIPTION:Tur til Frb. have og Søndermarken. Hele turen bliver ca. 14 km
 . Der er 3 mødesteder.  Vi kommer retur til de forskellige mødesteder.\
 n\n3\,5 km rute - Mødested 1 Kl 9:00\n5\,5 Km rute - Mødested 1 Kl 9:00
 \n14 Km rute - Mødested 1 Kl 9:00\n11 Km rute - Mødested 2 Kl 9:15\n5 Km
  rute - Mødested 3 Kl 9:30\n\nKom Frisk :-)
CATEGORIES:Løbetræning alle
LOCATION:V. Krogebjerg/ Slotsherrensvej\, Slotsherrensvej 201\, Vanløse\, 
 2720\, Denmark
GEO:55.700919;12.463758
X-APPLE-STRUCTURED-LOCATION;VALUE=URI;X-ADDRESS=Slotsherrensvej 201\, Vanl
 øse\, 2720\, Denmark;X-APPLE-RADIUS=100;X-TITLE=V. Krogebjerg/ Slotsherre
 nsvej:geo:55.700919,12.463758
END:VEVENT
BEGIN:VTIMEZONE
TZID:Europe/Copenhagen
X-LIC-LOCATION:Europe/Copenhagen
BEGIN:DAYLIGHT
DTSTART:20220327T030000
TZOFFSETFROM:+0100
TZOFFSETTO:+0200
TZNAME:CEST
END:DAYLIGHT
END:VTIMEZONE
END:VCALENDAR