BEGIN:VCALENDAR
VERSION:2.0
PRODID:-//wp-events-plugin.com//7.2.3.1//EN
TZID:Europe/Copenhagen
X-WR-TIMEZONE:Europe/Copenhagen
BEGIN:VEVENT
UID:1163@xn--vanlb-yua.dk
DTSTART;TZID=Europe/Copenhagen:20231007T090000
DTEND;TZID=Europe/Copenhagen:20231007T101500
DTSTAMP:20240613T211825Z
URL:https://xn--vanlb-yua.dk/events/nybegynder-lobga-og-power-walk-2-2019-
 02-09/
SUMMARY:Løbetræning lørdag: fra 3 til 10 km mod Kagsmosen og retur
DESCRIPTION:Niveau: alle :-)\n\nEr turen for lang\, kan du løbe fra og blo
 t tage engen rundt (2\,6\, km) eller fortsætte til Krogebjerg og returner
 e selv (5 km)\n\neller tage turen hele vejen  rundt om Kagsmosen\n\nVi se
 s
CATEGORIES:Løbetræning alle
LOCATION:V. Krogebjerg/ Slotsherrensvej\, Slotsherrensvej 201\, Vanløse\, 
 2720\, Denmark
GEO:55.700919;12.463758
X-APPLE-STRUCTURED-LOCATION;VALUE=URI;X-ADDRESS=Slotsherrensvej 201\, Vanl
 øse\, 2720\, Denmark;X-APPLE-RADIUS=100;X-TITLE=V. Krogebjerg/ Slotsherre
 nsvej:geo:55.700919,12.463758
END:VEVENT
BEGIN:VTIMEZONE
TZID:Europe/Copenhagen
X-LIC-LOCATION:Europe/Copenhagen
BEGIN:DAYLIGHT
DTSTART:20230326T030000
TZOFFSETFROM:+0100
TZOFFSETTO:+0200
TZNAME:CEST
END:DAYLIGHT
END:VTIMEZONE
END:VCALENDAR