BEGIN:VCALENDAR
VERSION:2.0
PRODID:-//wp-events-plugin.com//7.2.3.1//EN
TZID:Europe/Copenhagen
X-WR-TIMEZONE:Europe/Copenhagen
BEGIN:VEVENT
UID:1306@xn--vanlb-yua.dk
DTSTART;TZID=Europe/Copenhagen:20241102T090000
DTEND;TZID=Europe/Copenhagen:20241102T104500
DTSTAMP:20241031T193505Z
URL:https://xn--vanlb-yua.dk/events/tur-mod-herstedhoeje-4-13-km-3/
SUMMARY:Tur mod Herstedhøje :-) 4-13 km
DESCRIPTION:Tur til Herstedhøje.\n\n4 km - mødested 1 kl 9:00\n6 Km - M
 ødested 3 9:25\n9 Km - mødested 2 9:15\n13 Km - Mødested 1 9:00\n\n
 &nbsp\;\n\nKom Frisk\n\n
ATTACH;FMTTYPE=image/jpeg:https://xn--vanlb-yua.dk/wp-content/uploads/2024
 /06/IMG_4387-scaled.webp
CATEGORIES:Løbetræning
LOCATION:Rødovre Parkvej - for enden af vejen v. græs banerne\, Rødovre 
 Parkvej 622-501\, Rødovre\, 2610\, Denmark
GEO:55.680844;12.434063
X-APPLE-STRUCTURED-LOCATION;VALUE=URI;X-ADDRESS=Rødovre Parkvej 622-501\, 
 Rødovre\, 2610\, Denmark;X-APPLE-RADIUS=100;X-TITLE=Rødovre Parkvej - fo
 r enden af vejen v. græs banerne:geo:55.680844,12.434063
END:VEVENT
BEGIN:VTIMEZONE
TZID:Europe/Copenhagen
X-LIC-LOCATION:Europe/Copenhagen
BEGIN:STANDARD
DTSTART:20241027T020000
TZOFFSETFROM:+0200
TZOFFSETTO:+0100
TZNAME:CET
END:STANDARD
END:VTIMEZONE
END:VCALENDAR